BEGIN:VCALENDAR
VERSION:2.0
PRODID:-//wp-events-plugin.com//6.6.4.4//EN
TZID:America/Toronto
X-WR-TIMEZONE:America/Toronto
BEGIN:VEVENT
UID:1665@dev.thrc.ca
DTSTART;TZID=America/Toronto:20230225T090000
DTEND;TZID=America/Toronto:20230225T160000
DTSTAMP:20230217T182532Z
URL:https://dev.thrc.ca/events/winter-recharge/
SUMMARY:Winter Recharge 2023
DESCRIPTION:&nbsp\;\n\n\n\n\nWINTER RECHARGE \nSaturday\, February 25\, 20
 23 from 9:00am-4:00pm\nRegistration begins at 8:30am\nSt. Volodymry's Cult
 ural Centre\n1280 Dundas Street West\, Oakville\nTHRC is excited to have W
 inter Recharge back in-person! Join Martin Liberio in this interactive eve
 nt. Participants will have an opportunity to reconnect with their inner ch
 ild\, create connections between places and spaces and identify those Gem 
 Moments.\nPlay and Self-Identity: This interactive presentation makes us r
 econnect with\nour inner child and recognize how our identity and place in
  this world is so\nclosely connected to our early childhood play and inter
 ests. Through a\ncollection of photos and stories of the "gifts" that each
  child brings participants\nwill see how every person in the world belongs
  like the multicolored pieces of a\npuzzle that fit together perfectly int
 o a masterpiece.\nPlace-Making: Creating places where amazing experiences 
 happen: Action\nfollows thought\; Place-Making makes connections between p
 laces and spaces\nthat we know and appreciate\, and helps us remember what
  principles to follow\nand to guide our actions in establishing and mainta
 ining early childhood\nenvironments.\nGEM Moments: Gem moments occur when 
 we stop the clock\, take the time\,\nand grasp the opportunities of the pr
 esent moment to create memories that last a lifetime. This presentation wi
 ll inspire you to remember that the simple\nmoments that occur in relation
 ships\, that are shared and experienced together\noften help create some o
 f our best memories that we treasure for the rest of our\nlives. What we r
 emember best from our childhood are the simple rituals\, special\nactiviti
 es\, or times spent with a special person in our lives that made us feel i
 mportant.\nThis Professional Learning Opportunity has been supported throu
 gh Workforce Funding. \n\n\n\n\nNO COST TO ATTEND\nIf you register and ar
 e unable to make the event\, please email administrativeassistant@thrc.ca 
 to provide a substitution.\n\n\nREGISTRATION DEADLINE: February 17\, 2023\
 n\n\n
LOCATION:St. Volodymyr Cultural Centre\, 1280 Dundas Street West \, Oakvill
 e\, Canada
X-APPLE-STRUCTURED-LOCATION;VALUE=URI;X-ADDRESS=1280 Dundas Street West \, 
 Oakville\, Canada;X-APPLE-RADIUS=100;X-TITLE=St. Volodymyr Cultural Centre
 :geo:0,0
END:VEVENT
BEGIN:VTIMEZONE
TZID:America/Toronto
X-LIC-LOCATION:America/Toronto
BEGIN:STANDARD
DTSTART:20221106T010000
TZOFFSETFROM:-0400
TZOFFSETTO:-0500
TZNAME:EST
END:STANDARD
END:VTIMEZONE
END:VCALENDAR