BEGIN:VCALENDAR
VERSION:2.0
PRODID:-//wp-events-plugin.com//6.6.4.4//EN
TZID:America/Toronto
X-WR-TIMEZONE:America/Toronto
BEGIN:VEVENT
UID:1679@dev.thrc.ca
DTSTART;TZID=America/Toronto:20230309T093000
DTEND;TZID=America/Toronto:20230309T113000
DTSTAMP:20230223T184758Z
URL:https://dev.thrc.ca/events/see-share-and-wonder-tour-maple-avenue-regi
 onal-child-care-centre/
SUMMARY:See\, Share and Wonder Tour: Maple Avenue Regional Child Care Centr
 e
DESCRIPTION:\n\n\nSee\, Share and Wonder Tour: Maple Avenue Regional Child 
 Care Centre \nMarch 9\, 2023\n\n\n9:30am-11:30am\n\n\n\nThe Regional Child
  Care Centres in Halton Region are inviting you to\ncome and visit! Engage
  in a centre tour and a facilitated discussion.\n\nBe curious together\, l
 ook\, wonder and discover by connecting to the quality journey of others.\
 n\n\nIf this session is full\, e-mail administrativeassistant@thrc.ca to b
 e put on the waitlist.\n\n\n\n\n\n\nLocation:\nCost:\nRegistration Deadlin
 e:\n\n\nMaple Avenue Regional Child Care Centre\n\n65 Maple Avenue\, Georg
 etown\n\n&nbsp\;\nNo Cost\nMarch 7\, 2023\n\n\n\n
LOCATION:Maple Avenue Regional Child Care Centre\, 65 Maple Avenue\, George
 town\, Ontario\, Canada
GEO:43.6564711;-79.90934019999997
X-APPLE-STRUCTURED-LOCATION;VALUE=URI;X-ADDRESS=65 Maple Avenue\, Georgetow
 n\, Ontario\, Canada;X-APPLE-RADIUS=100;X-TITLE=Maple Avenue Regional Chil
 d Care Centre:geo:43.6564711,-79.90934019999997
END:VEVENT
BEGIN:VTIMEZONE
TZID:America/Toronto
X-LIC-LOCATION:America/Toronto
BEGIN:STANDARD
DTSTART:20221106T010000
TZOFFSETFROM:-0400
TZOFFSETTO:-0500
TZNAME:EST
END:STANDARD
END:VTIMEZONE
END:VCALENDAR