BEGIN:VCALENDAR
VERSION:2.0
PRODID:-//wp-events-plugin.com//6.6.4.4//EN
TZID:America/Toronto
X-WR-TIMEZONE:America/Toronto
BEGIN:VEVENT
UID:1727@dev.thrc.ca
DTSTART;TZID=America/Toronto:20230608T190000
DTEND;TZID=America/Toronto:20230608T200000
DTSTAMP:20230525T202837Z
URL:https://dev.thrc.ca/events/learning-community-for-infant-toddler-educa
 tors-11/
SUMMARY:Learning Community for Infant/Toddler Educators
DESCRIPTION:\n\n\n\nLearning Community for Infant/Toddler Educators\n\nJune
  8\, 2023\n\n\n7:00pm-8:00pm\n\n\n\n\n\nWorking with Infants or Toddlers? 
 Let’s talk about it! Join the infant &amp\; toddler learning community t
 o meet others who are working with the youngest age groups in licensed chi
 ld care settings. Are you looking for ideas for books\, sensory and gross 
 motor? Have you created new ways to include these in your program while ad
 hering to the operational guidance document?\nLet’s share our experience
 s and ideas as we network together. Educators will engage in facilitated c
 onversations based on the collective interests and requests from the group
 .\n\n&nbsp\;\nFacilitated by: Liz Reddy &amp\;\nGeethmi Premarante\n\n&nbs
 p\;\nIntended Audience: Licensed Child Care Educators\, EarlyON Educators\
 , Licensed Home Child Care Providers/Home Visitors\, Supervisors\, Manager
 s\, Support Staff\n\n\n\n\n\nIf this session is full\, e-mail administrati
 veassistant@thrc.ca to be put on the waitlist.\n\n\n\n\nLocation:\nCost:\n
 Registration Deadline:\n\n\nZoom Meeting\n\n&nbsp\;\nNo Cost\nJune 6\, 202
 3\nThe Zoom link will be sent to you the day of the session by ashleym@thr
 c.ca\n\n\n
END:VEVENT
BEGIN:VTIMEZONE
TZID:America/Toronto
X-LIC-LOCATION:America/Toronto
BEGIN:DAYLIGHT
DTSTART:20230312T030000
TZOFFSETFROM:-0500
TZOFFSETTO:-0400
TZNAME:EDT
END:DAYLIGHT
END:VTIMEZONE
END:VCALENDAR